BEGIN:VCALENDAR
VERSION:2.0
PRODID:-//frei:kirche - ECPv6.15.20//NONSGML v1.0//EN
CALSCALE:GREGORIAN
METHOD:PUBLISH
X-ORIGINAL-URL:https://frei-kirche.com
X-WR-CALDESC:Veranstaltungen für frei:kirche
REFRESH-INTERVAL;VALUE=DURATION:PT1H
X-Robots-Tag:noindex
X-PUBLISHED-TTL:PT1H
BEGIN:VTIMEZONE
TZID:Europe/Berlin
BEGIN:DAYLIGHT
TZOFFSETFROM:+0100
TZOFFSETTO:+0200
TZNAME:CEST
DTSTART:20230326T010000
END:DAYLIGHT
BEGIN:STANDARD
TZOFFSETFROM:+0200
TZOFFSETTO:+0100
TZNAME:CET
DTSTART:20231029T010000
END:STANDARD
BEGIN:DAYLIGHT
TZOFFSETFROM:+0100
TZOFFSETTO:+0200
TZNAME:CEST
DTSTART:20240331T010000
END:DAYLIGHT
BEGIN:STANDARD
TZOFFSETFROM:+0200
TZOFFSETTO:+0100
TZNAME:CET
DTSTART:20241027T010000
END:STANDARD
BEGIN:DAYLIGHT
TZOFFSETFROM:+0100
TZOFFSETTO:+0200
TZNAME:CEST
DTSTART:20250330T010000
END:DAYLIGHT
BEGIN:STANDARD
TZOFFSETFROM:+0200
TZOFFSETTO:+0100
TZNAME:CET
DTSTART:20251026T010000
END:STANDARD
END:VTIMEZONE
BEGIN:VEVENT
DTSTART;TZID=Europe/Berlin:20241224T160000
DTEND;TZID=Europe/Berlin:20241224T173000
DTSTAMP:20260419T170404
CREATED:20231127T150023Z
LAST-MODIFIED:20241202T220047Z
UID:4851-1735056000-1735061400@frei-kirche.com
SUMMARY:Heiligabend
DESCRIPTION:Unser Gottesdienst an Heiligabend findet um 16.00 Uhr in der frei:kirche in Stelle statt und wird live online übertragen. \nWir freuen uns auf euch!
URL:https://frei-kirche.com/veranstaltungen/heiligabend/
LOCATION:frei:kirche\, Harburger Straße 11\, Stelle\, 21435\, Deutschland
CATEGORIES:Events,Gottesdienst
ATTACH;FMTTYPE=image/jpeg:https://frei-kirche.com/wp-content/uploads/2023/11/GoDi-Heilig-Abend-2023.jpg
END:VEVENT
END:VCALENDAR