BEGIN:VCALENDAR
VERSION:2.0
PRODID:-//frei:kirche - ECPv6.15.20//NONSGML v1.0//EN
CALSCALE:GREGORIAN
METHOD:PUBLISH
X-WR-CALNAME:frei:kirche
X-ORIGINAL-URL:https://frei-kirche.com
X-WR-CALDESC:Veranstaltungen für frei:kirche
REFRESH-INTERVAL;VALUE=DURATION:PT1H
X-Robots-Tag:noindex
X-PUBLISHED-TTL:PT1H
BEGIN:VTIMEZONE
TZID:Europe/Berlin
BEGIN:DAYLIGHT
TZOFFSETFROM:+0100
TZOFFSETTO:+0200
TZNAME:CEST
DTSTART:20240331T010000
END:DAYLIGHT
BEGIN:STANDARD
TZOFFSETFROM:+0200
TZOFFSETTO:+0100
TZNAME:CET
DTSTART:20241027T010000
END:STANDARD
BEGIN:DAYLIGHT
TZOFFSETFROM:+0100
TZOFFSETTO:+0200
TZNAME:CEST
DTSTART:20250330T010000
END:DAYLIGHT
BEGIN:STANDARD
TZOFFSETFROM:+0200
TZOFFSETTO:+0100
TZNAME:CET
DTSTART:20251026T010000
END:STANDARD
BEGIN:DAYLIGHT
TZOFFSETFROM:+0100
TZOFFSETTO:+0200
TZNAME:CEST
DTSTART:20260329T010000
END:DAYLIGHT
BEGIN:STANDARD
TZOFFSETFROM:+0200
TZOFFSETTO:+0100
TZNAME:CET
DTSTART:20261025T010000
END:STANDARD
END:VTIMEZONE
BEGIN:VTIMEZONE
TZID:UTC
BEGIN:STANDARD
TZOFFSETFROM:+0000
TZOFFSETTO:+0000
TZNAME:UTC
DTSTART:20240101T000000
END:STANDARD
END:VTIMEZONE
BEGIN:VEVENT
DTSTART;TZID=Europe/Berlin:20250622T100000
DTEND;TZID=Europe/Berlin:20250622T160000
DTSTAMP:20260423T112231
CREATED:20240529T124616Z
LAST-MODIFIED:20250525T164827Z
UID:11804-1750586400-1750608000@frei-kirche.com
SUMMARY:Familiengottesdienst\, GBU-Entlassung und Sommerfest
DESCRIPTION:Herzliche Einladung zum Familien-Gottesdienst mit GBU-Entlassung am 22. Juni um 10 Uhr (drinnen) und zum Sommerfest im Anschluss an den Gottesdienst bis ca. 16 Uhr im Garten. Wir freuen uns\, vor den Sommerferien noch einmal mit allen Generationen zusammenzukommen\, Zeit miteinander zu verbringen und das Leben zu feiern. \nMeldet euch für das Sommerfest bitte über die Liste\, die im Foyer ausliegt\, an und bringt gern etwas fürs Buffet (Salat\, Brot\, Kuchen) mit. Für Grillgut\, Eis und Getränke wird gesorgt. \nBringt für das Sommerfest gern eine eigene Sitzgelegenheit (Klappstuhl\, Picknickdecke o.Ä.) mit\, wenn ihr habt und mögt. Wir stellen zusätzlich die Bierzeltgarnituren auf. Außerdem packt gern eure Gartenspiele wie Wikingerschach\, Leitergolf und Boccia ein. \nBesonders viel Spaß wird uns in diesem Jahr der bunte-Anhänger vom GJW mit Spielen wie Pull-Bull-Riding\, Bungee-Run und einer Fußballwand machen. \nWer gerne beim Einkaufen (in der Woche vor dem Sommerfest)\, Aufbau (vor und während des GoDis) und in der Küche (nach dem Fest) helfen möchte\, meldet sich bitte bei Joana. \nWir freuen uns auf ein tolles und sommerliches Fest mit euch!
URL:https://frei-kirche.com/veranstaltungen/familiengottesdienst-und-sommerfest/
ATTACH;FMTTYPE=image/png:https://frei-kirche.com/wp-content/uploads/2025/05/2025-06-22-Sommerfest.png.png
END:VEVENT
BEGIN:VEVENT
DTSTART;TZID=UTC:20250629T100000
DTEND;TZID=UTC:20250629T113000
DTSTAMP:20260423T112231
CREATED:20230701T130033Z
LAST-MODIFIED:20250623T175256Z
UID:5194-1751191200-1751196600@frei-kirche.com
SUMMARY:Kinder-Sommerfest
DESCRIPTION:Euch erwartet ein buntes Programm \nmit jeder Menge Spiel\, Spaß und Action. \nSei dabei und bring deine Eltern \nund Geschwister mit. Eine Anmeldung ist nicht erforderlich. \nDer Eintritt ist natürlich frei. Wir freuen uns über eine Spende.
URL:https://frei-kirche.com/veranstaltungen/kinder-sommerfest/
CATEGORIES:Events,Freizeit,Gemeinschaft,Veranstaltungen
ATTACH;FMTTYPE=image/png:https://frei-kirche.com/wp-content/uploads/2025/06/Kigo-Sommerparty.png
END:VEVENT
END:VCALENDAR