BEGIN:VCALENDAR
VERSION:2.0
PRODID:-//frei:kirche - ECPv6.15.20//NONSGML v1.0//EN
CALSCALE:GREGORIAN
METHOD:PUBLISH
X-WR-CALNAME:frei:kirche
X-ORIGINAL-URL:https://frei-kirche.com
X-WR-CALDESC:Veranstaltungen für frei:kirche
REFRESH-INTERVAL;VALUE=DURATION:PT1H
X-Robots-Tag:noindex
X-PUBLISHED-TTL:PT1H
BEGIN:VTIMEZONE
TZID:Europe/Berlin
BEGIN:DAYLIGHT
TZOFFSETFROM:+0100
TZOFFSETTO:+0200
TZNAME:CEST
DTSTART:20240331T010000
END:DAYLIGHT
BEGIN:STANDARD
TZOFFSETFROM:+0200
TZOFFSETTO:+0100
TZNAME:CET
DTSTART:20241027T010000
END:STANDARD
BEGIN:DAYLIGHT
TZOFFSETFROM:+0100
TZOFFSETTO:+0200
TZNAME:CEST
DTSTART:20250330T010000
END:DAYLIGHT
BEGIN:STANDARD
TZOFFSETFROM:+0200
TZOFFSETTO:+0100
TZNAME:CET
DTSTART:20251026T010000
END:STANDARD
BEGIN:DAYLIGHT
TZOFFSETFROM:+0100
TZOFFSETTO:+0200
TZNAME:CEST
DTSTART:20260329T010000
END:DAYLIGHT
BEGIN:STANDARD
TZOFFSETFROM:+0200
TZOFFSETTO:+0100
TZNAME:CET
DTSTART:20261025T010000
END:STANDARD
END:VTIMEZONE
BEGIN:VEVENT
DTSTART;TZID=Europe/Berlin:20250321T140000
DTEND;TZID=Europe/Berlin:20250321T170000
DTSTAMP:20260425T220828
CREATED:20250315T140919Z
LAST-MODIFIED:20250315T140919Z
UID:15207-1742565600-1742576400@frei-kirche.com
SUMMARY:Boßeln mit 55plus
DESCRIPTION:Am 21.3.2025 geht die Gruppe 55 Plus Boßeln \nTreffpunkt ist der Parkplatz Kieselshöh um 14:00 Uhr
URL:https://frei-kirche.com/veranstaltungen/bosseln-mit-55plus/
ATTACH;FMTTYPE=image/jpeg:https://frei-kirche.com/wp-content/uploads/2020/02/gruppe55plus_content.jpg
END:VEVENT
END:VCALENDAR