BEGIN:VCALENDAR
VERSION:2.0
PRODID:-//frei:kirche - ECPv6.15.20//NONSGML v1.0//EN
CALSCALE:GREGORIAN
METHOD:PUBLISH
X-WR-CALNAME:frei:kirche
X-ORIGINAL-URL:https://frei-kirche.com
X-WR-CALDESC:Veranstaltungen für frei:kirche
REFRESH-INTERVAL;VALUE=DURATION:PT1H
X-Robots-Tag:noindex
X-PUBLISHED-TTL:PT1H
BEGIN:VTIMEZONE
TZID:Europe/Berlin
BEGIN:DAYLIGHT
TZOFFSETFROM:+0100
TZOFFSETTO:+0200
TZNAME:CEST
DTSTART:20240331T010000
END:DAYLIGHT
BEGIN:STANDARD
TZOFFSETFROM:+0200
TZOFFSETTO:+0100
TZNAME:CET
DTSTART:20241027T010000
END:STANDARD
BEGIN:DAYLIGHT
TZOFFSETFROM:+0100
TZOFFSETTO:+0200
TZNAME:CEST
DTSTART:20250330T010000
END:DAYLIGHT
BEGIN:STANDARD
TZOFFSETFROM:+0200
TZOFFSETTO:+0100
TZNAME:CET
DTSTART:20251026T010000
END:STANDARD
BEGIN:DAYLIGHT
TZOFFSETFROM:+0100
TZOFFSETTO:+0200
TZNAME:CEST
DTSTART:20260329T010000
END:DAYLIGHT
BEGIN:STANDARD
TZOFFSETFROM:+0200
TZOFFSETTO:+0100
TZNAME:CET
DTSTART:20261025T010000
END:STANDARD
END:VTIMEZONE
BEGIN:VEVENT
DTSTART;TZID=Europe/Berlin:20250120T190000
DTEND;TZID=Europe/Berlin:20250130T200000
DTSTAMP:20260426T011843
CREATED:20250112T184824Z
LAST-MODIFIED:20250115T131355Z
UID:14299-1737399600-1738267200@frei-kirche.com
SUMMARY:Ökumenische Woche in der Region
DESCRIPTION:Bibelarbeit mal anders – „3\,16“ als Impulsgeber\nACHT ABENDE \nACHT MAL BIBELARBEIT ZUR BIBELSTELLE  3\,16                    von 19:00 Uhr bis 20:00 Uhr \nIn der kommenden Ökumenischen Woche wird es spannend: Pastor:innen aus Stelle\, Fliegenberg\, Ramelsloh und Ashausen laden zusammen mit Pastor:innen der Selbstständigen Evangelischen Kirche\, der frei:kirche (EfG) und der Landeskirchlichen Gemeinschaft Ohlendorf zu einer besonderen Form der Bibelarbeit ein. Es geht dabei nicht um starre Theorien\, sondern um lebendige Impulse – und die Zahl „3\,16“ spielt dabei eine zentrale Rolle. \nDenn mit „3\,16“ ist die Bibelstelle gemeint\, die sich in fast allen Büchern der Bibel befindet. Per Losverfahren wurde das biblische Buch bestimmt und jede Stelle rund um 3\,16 bringt einen neuen und überraschenden Impuls mit sich. So starten die etwa einstündigen Bibelarbeiten immer mit frischen und ungeahnten Perspektiven auf die bekannte oder auch weniger bekannte Bibelstelle. \n„Wir wollen\, dass sich die Menschen auf unkomplizierte und kreative Weise mit den Texten auseinandersetzen und dabei ganz unterschiedliche Blickwinkel kennenlernen“\, erklärt Pastorin Raphaela Gerlach. „Es ist spannend zu sehen\, welche Themen in den 3\,16-Stellen stecken und wie sie uns heute noch ansprechen.“\, so Pastorin Ute Eberbach.  \nDie Ökumenische Woche bietet Raum für offene Gespräche\, gemeinsames Nachdenken und den Austausch. Das Ziel: den Blick auf die Bibel mit neuen Impulsen zu erweitern und die Gemeinschaft zu stärken – ganz ohne Konventionen. \nAlle Interessierten\, egal ob jung oder alt\, sind herzlich eingeladen\, an den täglichen Bibelarbeiten teilzunehmen. Los geht es am 20.01 um 18:00 Uhr in Ohlendorf\, Missionsweg 1 mit Pastorin Insa Sternhagen aus Fliegenberg. \nWeitere Termine: \n21.01.2025\, Pastor Bernd Wahlmann: frei:kirche (EfG) Stelle\, Harburger Straße 11\n22.01.2025\, Pastorin Raphaela Gerlach: St.-Andreas-Kirchengemeinde Ashausen Duvendahl 2\n23.01.2025\, Pastor Georg Wieberneit: St.-Petri-Gemeinde (SELK) Stelle\, Kampstraße 4\n27.01.2025\, Pastor Christian Rehr\, Kirchengemeinde Ramelsloh Am Domplatz 8\, Seevetal\n28.01.2025\, Jugendreferent Philipp Klatt: St. Michaels Kirchengemeinde Stelle\, Kirchweg 4 (Kirche)\n29.01.2025\, Pastorin Deborah Siemermann\, frei:kirche (EfG) Stelle\, Harburger Straße 11\n30.01.2025\, Pastorin Ute Eberbach\, Martin-Luther-Kirchengemeinde Fliegenberg\, Kapellenweg 2 \nPastorin Insa Sternhagen aus Fliegenberg. (Impuls:    Maleachi 3:16) \nPastor Bernd Wahlmann\, Landeskirchliche Gemeinschaft.   (Impuls:   Philipper   3:16) \nPastorin Raphaela Gerlach\, Pastorin St. Michael in Stelle.   (Impuls: Habakuk 3\,16) \nPastor Georg Wieberneit\, Pastor in Ramelsloh (Impuls:  2.Thessalonicher 3:16) \nPastor Christian Rehr\, Pastor in der SELK Stelle (Impuls:  Hiob 3\,16) \nJugendreferent Philipp Klatt\, Jugendreferent der frei:kirche (Impuls: 2.Chronik 3\,16) \nPastorin Deborah Siemermann\, Pastorin in Ashausen  (Impuls:  3. Johannes 15) \nPastorin Ute Eberbach\, Pastorin der frei:kirche (Impuls: 1 Johannes 3\,16) \n 
URL:https://frei-kirche.com/veranstaltungen/oekumenische-woche/
CATEGORIES:Gemeinschaft,Vortrag
ATTACH;FMTTYPE=image/jpeg:https://frei-kirche.com/wp-content/uploads/2025/01/IMG_3310-scaled.jpeg
END:VEVENT
END:VCALENDAR